BEGIN:VCALENDAR
VERSION:2.0
PRODID:-//Board of Education - ECPv6.15.20//NONSGML v1.0//EN
CALSCALE:GREGORIAN
METHOD:PUBLISH
X-WR-CALNAME:Board of Education
X-ORIGINAL-URL:https://theboemi.com
X-WR-CALDESC:Events for Board of Education
REFRESH-INTERVAL;VALUE=DURATION:PT1H
X-Robots-Tag:noindex
X-PUBLISHED-TTL:PT1H
BEGIN:VTIMEZONE
TZID:America/Detroit
BEGIN:DAYLIGHT
TZOFFSETFROM:-0500
TZOFFSETTO:-0400
TZNAME:EDT
DTSTART:20240310T070000
END:DAYLIGHT
BEGIN:STANDARD
TZOFFSETFROM:-0400
TZOFFSETTO:-0500
TZNAME:EST
DTSTART:20241103T060000
END:STANDARD
BEGIN:DAYLIGHT
TZOFFSETFROM:-0500
TZOFFSETTO:-0400
TZNAME:EDT
DTSTART:20250309T070000
END:DAYLIGHT
BEGIN:STANDARD
TZOFFSETFROM:-0400
TZOFFSETTO:-0500
TZNAME:EST
DTSTART:20251102T060000
END:STANDARD
BEGIN:DAYLIGHT
TZOFFSETFROM:-0500
TZOFFSETTO:-0400
TZNAME:EDT
DTSTART:20260308T070000
END:DAYLIGHT
BEGIN:STANDARD
TZOFFSETFROM:-0400
TZOFFSETTO:-0500
TZNAME:EST
DTSTART:20261101T060000
END:STANDARD
END:VTIMEZONE
BEGIN:VEVENT
DTSTART;TZID=America/Detroit:20250304T193000
DTEND;TZID=America/Detroit:20250304T213000
DTSTAMP:20260424T043032
CREATED:20250220T141829Z
LAST-MODIFIED:20250221T011329Z
UID:87-1741116600-1741123800@theboemi.com
SUMMARY:Becoming Leather: What You Need to Know with DevynStone
DESCRIPTION:Class Description\nSo you caught a whiff of Leather and you’re hungry to learn and discover what being Leather is all about. Where does a novice begin? In this foundation-building class\, Devyn Stone guides attendees on what Leather is. While very brief bits of Leather history will be given\, this class’s aim is to provide the attendee with a beginner’s working knowledge of what Leather is\, examples of Leather traditions\, language used in Leather communities\, and what it takes to take on Leather as an identifier. This class is welcome to all attendees\, regardless of experience\, but is tailored to be introductory level. \nPresenter Bio\nMaster (Devyn) Stone is an author\, educator\, and JEDI consultant. He is a Leatherman\, an extrovert\, a Sons of Anarchy fan\, and a foodie. He also enjoys organizing events\, volunteering\, moderating\, speaking\, and emceeing! He has been practicing authority transfer dynamics since 2004. Today he lives in Detroit with his property\, Guan-Xuan. \nDevyn is the author of “DAMN! That’s A Nice Ash! A Comprehensive Guide to Cigar Service & Play” and “Why I Don’t Own Them… Yet… \,” offering a concise guide to negotiating authority in relationships. He is the Founder of Pragmatically Kinking and the Executive Producer for THRIVE. \nMaster Stone has a passion for giving and receiving education. His favorite topics to speak on include productivity\, leadership\, consent\, event coordinating\, authority transfer\, and neurodivergence. He believes in diversity\, not division\, and actualizes that idea by promoting strongly affirming spaces and interactions. \nFind more at https://DevynStone.com \n			\n			\n				\n				\n				\n				\n				\n				\n				\n				\n				\n				Class Attendance\nCost to attend this class is $5.00 for members (be prepared to show your membership card) and $10.00 for nonmembers. Admission is payable at the door. \nHOW TO BECOME A MEMBER \nDoors open at 7:00 p.m. Class begins at 7:30 p.m. and runs until 9:30 p.m. Please be punctual. There will be no admittance after 8:00 p.m.
URL:https://theboemi.com/event/tuesday-class-030425/
LOCATION:The Mothership\, Troy\, MI\, United States
CATEGORIES:Class
ATTACH;FMTTYPE=image/jpeg:https://theboemi.com/wp-content/uploads/2025/02/pexels-serj-3208298.jpg
END:VEVENT
BEGIN:VEVENT
DTSTART;TZID=America/Detroit:20250316T180000
DTEND;TZID=America/Detroit:20250316T220000
DTSTAMP:20260424T043032
CREATED:20250220T215312Z
LAST-MODIFIED:20250220T220259Z
UID:99-1742148000-1742162400@theboemi.com
SUMMARY:BOE-TNG March Munch: St. Patty's Day & TNG's 3rd Anniversary
DESCRIPTION:ST. PATTY’S DAY CELEBRATION + TNG’s 3rd B-DAY/ANNIVERSARY!\nJoin us for Saint Patrick’s Day (one day early) and in celebration of BOE_TNG’s THIRD Birthday/Anniversary– yeah\, you heard that right– 3 YEARS OF TNG!!!!!! Please wear 💚 GREEN 💚 (or whatever you want\, as always). \n☘️ “May the luck of the Irish lead to happiest heights and the highway you travel be lined with green lights.” ☘️ \nWhat is BOE TNG?\nBOE TNG is a committee of the Board of Education specifically formed to serve the needs of community members from ages 18 to 35 (currently extending to 37). \nThese events will often be primarily social in focus\, like our monthly munch\, and specifically seek to create a space for TNG aged folks to connect and spend time together. \nThe event location will be shared after an approved RSVP. \nRSVP via the Fetlife link below or by sending a message to @BOE_TNG on Fetlife. \n  \n			\n			\n				\n				\n				\n				\n				\n				\n				\n				\n				\n				BOE-TNG Events\nEvents with this label will be for TNG-aged attendees\, i.e. people ages 18 through 37. You don’t have to be a BOE member to attend\, but membership is encouraged. \nHOW TO BECOME A BOE MEMBER \nBOE TNG Munch Info and Etiquette Primer
URL:https://theboemi.com/event/boe-tng-march-2025/
LOCATION:MI
CATEGORIES:BOE TNG,TNG Munch
ATTACH;FMTTYPE=image/png:https://theboemi.com/wp-content/uploads/2025/02/BOE-TNG-March2025.png
END:VEVENT
END:VCALENDAR