BEGIN:VCALENDAR
VERSION:2.0
PRODID:-//Board of Education - ECPv6.15.20//NONSGML v1.0//EN
CALSCALE:GREGORIAN
METHOD:PUBLISH
X-WR-CALNAME:Board of Education
X-ORIGINAL-URL:https://theboemi.com
X-WR-CALDESC:Events for Board of Education
REFRESH-INTERVAL;VALUE=DURATION:PT1H
X-Robots-Tag:noindex
X-PUBLISHED-TTL:PT1H
BEGIN:VTIMEZONE
TZID:America/Detroit
BEGIN:DAYLIGHT
TZOFFSETFROM:-0500
TZOFFSETTO:-0400
TZNAME:EDT
DTSTART:20240310T070000
END:DAYLIGHT
BEGIN:STANDARD
TZOFFSETFROM:-0400
TZOFFSETTO:-0500
TZNAME:EST
DTSTART:20241103T060000
END:STANDARD
BEGIN:DAYLIGHT
TZOFFSETFROM:-0500
TZOFFSETTO:-0400
TZNAME:EDT
DTSTART:20250309T070000
END:DAYLIGHT
BEGIN:STANDARD
TZOFFSETFROM:-0400
TZOFFSETTO:-0500
TZNAME:EST
DTSTART:20251102T060000
END:STANDARD
BEGIN:DAYLIGHT
TZOFFSETFROM:-0500
TZOFFSETTO:-0400
TZNAME:EDT
DTSTART:20260308T070000
END:DAYLIGHT
BEGIN:STANDARD
TZOFFSETFROM:-0400
TZOFFSETTO:-0500
TZNAME:EST
DTSTART:20261101T060000
END:STANDARD
END:VTIMEZONE
BEGIN:VEVENT
DTSTART;TZID=America/Detroit:20250107T193000
DTEND;TZID=America/Detroit:20250107T213000
DTSTAMP:20260423T162600
CREATED:20250220T135044Z
LAST-MODIFIED:20250220T135050Z
UID:68-1736278200-1736285400@theboemi.com
SUMMARY:Fire! Fire! Fire! with TheMtnLioness
DESCRIPTION:Class Description\nIf you are a pyro with a pinch of sensualist or sadist thrown in\, then this class is for you. Fire play can range from sensual to excruciating depending on your goals and skills. We will talk about how to accomplish both with fire. This class is for both fire Tops and fire bottoms with an emphasis on safety. \nPresenter Bio\nPam (aka TheMtnLioness) has been involved with the Board of Education since its beginning. She has been an avid educator and student during her time in the community and has a significant amount of experience with fire play. She can often be found topping fire play for bottoms buffets & Exploratoriums\, introducing new people to the community\, and making people scream in agony or ecstasy. She is excited to help you on your way to self discovery and fun. \n			\n			\n				\n				\n				\n				\n				\n				\n				\n				\n				\n				Class Attendance\nCost to attend this class is $5.00 for members (be prepared to show your membership card) and $10.00 for nonmembers. Admission is payable at the door. \nHOW TO BECOME A MEMBER \nDoors open at 7:00 p.m. Class begins at 7:30 p.m. and runs until 9:30 p.m. Please be punctual. There will be no admittance after 8:00 p.m.
URL:https://theboemi.com/event/fire-fire-fire-with-themtnlioness/
LOCATION:The Mothership\, Troy\, MI\, United States
CATEGORIES:Class
ATTACH;FMTTYPE=image/jpeg:https://theboemi.com/wp-content/uploads/2025/02/fire-010725.jpg
END:VEVENT
END:VCALENDAR