BEGIN:VCALENDAR
VERSION:2.0
PRODID:-//Board of Education - ECPv6.15.20//NONSGML v1.0//EN
CALSCALE:GREGORIAN
METHOD:PUBLISH
X-WR-CALNAME:Board of Education
X-ORIGINAL-URL:https://theboemi.com
X-WR-CALDESC:Events for Board of Education
REFRESH-INTERVAL;VALUE=DURATION:PT1H
X-Robots-Tag:noindex
X-PUBLISHED-TTL:PT1H
BEGIN:VTIMEZONE
TZID:America/Detroit
BEGIN:DAYLIGHT
TZOFFSETFROM:-0500
TZOFFSETTO:-0400
TZNAME:EDT
DTSTART:20250309T070000
END:DAYLIGHT
BEGIN:STANDARD
TZOFFSETFROM:-0400
TZOFFSETTO:-0500
TZNAME:EST
DTSTART:20251102T060000
END:STANDARD
BEGIN:DAYLIGHT
TZOFFSETFROM:-0500
TZOFFSETTO:-0400
TZNAME:EDT
DTSTART:20260308T070000
END:DAYLIGHT
BEGIN:STANDARD
TZOFFSETFROM:-0400
TZOFFSETTO:-0500
TZNAME:EST
DTSTART:20261101T060000
END:STANDARD
BEGIN:DAYLIGHT
TZOFFSETFROM:-0500
TZOFFSETTO:-0400
TZNAME:EDT
DTSTART:20270314T070000
END:DAYLIGHT
BEGIN:STANDARD
TZOFFSETFROM:-0400
TZOFFSETTO:-0500
TZNAME:EST
DTSTART:20271107T060000
END:STANDARD
END:VTIMEZONE
BEGIN:VEVENT
DTSTART;TZID=America/Detroit:20260526T193000
DTEND;TZID=America/Detroit:20260526T213000
DTSTAMP:20260423T173449
CREATED:20260328T202646Z
LAST-MODIFIED:20260328T202654Z
UID:573-1779823800-1779831000@theboemi.com
SUMMARY:The BOE Presents: Backdoor Adventures with Gratum_Belletore “ This is an all Anal intensive!!”
DESCRIPTION:Class Description\nThis is an all Anal intensive!! Join us in unlocking the secret pleasures hiding behind one’s sixth point of contact. This class will go over understanding the anatomy and physiology\, the basics of anal play\, lubes and toys\, to all the wonderful kinds of play one can engage in with safety consideration in mind. This class is intended for both beginners and advanced anal players. \nPresenter Bio\nGratum_Belletore is a switchy\, sadomasochistic exhibitionist\, who has been a member of the fetish community for the last four years. As a bottom\, he has assisted in classes for the BOE\, Ann Arbor TNG and Tri-County TNG. He’s a butt slut extraordinaire who has experienced both as a top and bottom for all things butt stuff over the last 18 years. Other favorite kinks include impact\, electrical and blood play. \n			\n			\n				\n				\n				\n				\n				\n				\n				\n				\n				\n				Class Attendance\nDoors open at 7:00 p.m. Class begins at 7:30 p.m. and runs until 9:30 p.m. Please be punctual. There will be no admittance after 8:00 p.m. \nCost to attend this class is $5.00 for members (be prepared to show your membership card) and $10.00 for nonmembers. Admission is payable at the door. \nHOW TO BECOME A MEMBER
URL:https://theboemi.com/event/the-boe-presents-backdoor-adventures-with-gratum_belletore-this-is-an-all-anal-intensive/
LOCATION:MI
CATEGORIES:Class
END:VEVENT
BEGIN:VEVENT
DTSTART;TZID=America/Detroit:20260606T193000
DTEND;TZID=America/Detroit:20260607T010000
DTSTAMP:20260423T173449
CREATED:20260417T151330Z
LAST-MODIFIED:20260417T151338Z
UID:580-1780774200-1780794000@theboemi.com
SUMMARY:BOE June Class and Play Party: Fisting with the Master Puppeteers and their meat puppets!
DESCRIPTION:Masochism as Risk-Reduction with ThatSwitchyChick and SchadenFraulein\n				\n				\n			\n			\n				\n				\n				\n				\n			\n				\n				\n				\n				\n				\n				\n				\n				\n				\n				\n				Class: The Master puppeteers and the meat puppets.\nYes you read correctly. This is that class. \nIf you don’t know what a meat puppet is\, just pause and think about it. You place your hand inside of a puppet\, and then you manipulate it in the way that both enjoy. Sometimes they moan\, and other times they scream. Who knows\, maybe even sing. \nWe will cover cleanliness\, safer practices\, and lubrication recommendations to assist the puppets. This is not a guarantee that you will witness a successful puppeteering\, as this should never be approached as such. The focus of enthusiastic consent will be held paramount throughout\, as it always should be. \n \nPresenter Bio\nTheMtnLioness being your anal meat puppeteer.TBD serving as your anal meat puppet slut. \nSir-Will being your vaginal support meat puppeteer.a_leashed_mynx serving as your vaginal meat puppet exhibitionist. \n\n \nNote: You must be on the door roster to be allowed into the party. If your name is not listed on the roster\, you will be turned away at the door. Send a message to @BoardOfEduation on Fetlife to attend.\n			\n			\n				\n				\n				\n				\n				\n				\n				\n				\n				\n				This party is limited to current BOE members and their guests.\nRSVPs are accepted by message only. Once you have successfully RSVP’d\, you will be added to the party roster and sent a confirmation message giving you the details. \nAdmission to the party is $20.00 for members and $25.00 for guests of members. All Attendees to this party must provide a driver’s license or state ID. Members must also show their membership card. You WILL be required to sign a waiver upon entry. There are no exceptions to these requirements. \nHOW TO BECOME A MEMBER
URL:https://theboemi.com/event/boe-june-class-and-play-party-fisting-with-the-master-puppeteers-and-their-meat-puppets/
LOCATION:The Mothership\, Troy\, MI\, United States
CATEGORIES:Class,Party
ATTACH;FMTTYPE=image/webp:https://theboemi.com/wp-content/uploads/2026/04/Fisting.webp
END:VEVENT
END:VCALENDAR