BEGIN:VCALENDAR
VERSION:2.0
PRODID:-//Board of Education - ECPv6.15.20//NONSGML v1.0//EN
CALSCALE:GREGORIAN
METHOD:PUBLISH
X-WR-CALNAME:Board of Education
X-ORIGINAL-URL:https://theboemi.com
X-WR-CALDESC:Events for Board of Education
REFRESH-INTERVAL;VALUE=DURATION:PT1H
X-Robots-Tag:noindex
X-PUBLISHED-TTL:PT1H
BEGIN:VTIMEZONE
TZID:America/Detroit
BEGIN:DAYLIGHT
TZOFFSETFROM:-0500
TZOFFSETTO:-0400
TZNAME:EDT
DTSTART:20240310T070000
END:DAYLIGHT
BEGIN:STANDARD
TZOFFSETFROM:-0400
TZOFFSETTO:-0500
TZNAME:EST
DTSTART:20241103T060000
END:STANDARD
BEGIN:DAYLIGHT
TZOFFSETFROM:-0500
TZOFFSETTO:-0400
TZNAME:EDT
DTSTART:20250309T070000
END:DAYLIGHT
BEGIN:STANDARD
TZOFFSETFROM:-0400
TZOFFSETTO:-0500
TZNAME:EST
DTSTART:20251102T060000
END:STANDARD
BEGIN:DAYLIGHT
TZOFFSETFROM:-0500
TZOFFSETTO:-0400
TZNAME:EDT
DTSTART:20260308T070000
END:DAYLIGHT
BEGIN:STANDARD
TZOFFSETFROM:-0400
TZOFFSETTO:-0500
TZNAME:EST
DTSTART:20261101T060000
END:STANDARD
END:VTIMEZONE
BEGIN:VEVENT
DTSTART;TZID=America/Detroit:20251123T180000
DTEND;TZID=America/Detroit:20251123T220000
DTSTAMP:20260423T103457
CREATED:20251109T224959Z
LAST-MODIFIED:20251109T230254Z
UID:443-1763920800-1763935200@theboemi.com
SUMMARY:BOE-TNG NOVEMBER SPANKSGIVING MUNCH!
DESCRIPTION:NOVEMBER SPANKSGIVING MUNCH!\nWhat is BOE TNG?\nBOE TNG is a committee of the Board of Education specifically formed to serve the needs of community members from ages 18 to 35 (currently extending to 37). \nThese events will often be primarily social in focus\, like our monthly munch\, and specifically seek to create a space for TNG aged folks to connect and spend time together. \nThe event location will be shared after an approved RSVP. \nRSVP via the Fetlife link below or by sending a message to @BOE_TNG on Fetlife. \n			\n			\n				\n				\n				\n				\n				\n				\n				\n				\n				\n				BOE-TNG Events\nEvents with this label will be for TNG-aged attendees\, i.e. people ages 18 through 37. You don’t have to be a BOE member to attend\, but membership is encouraged. \n  \nHOW TO BECOME A BOE MEMBER\n  \nBOE TNG Munch Info and Etiquette Primer
URL:https://theboemi.com/event/boe-tng-november-spanksgiving-munch/
LOCATION:MI
CATEGORIES:BOE TNG,TNG Munch
ATTACH;FMTTYPE=image/png:https://theboemi.com/wp-content/uploads/2025/11/Spanksgiving-2025.png
END:VEVENT
BEGIN:VEVENT
DTSTART;TZID=America/Detroit:20251026T180000
DTEND;TZID=America/Detroit:20251026T220000
DTSTAMP:20260423T103457
CREATED:20251010T001505Z
LAST-MODIFIED:20251109T224816Z
UID:410-1761501600-1761516000@theboemi.com
SUMMARY:BOE-TNG October Munch - Halloween Costume Contest! (for 18-37+guests)
DESCRIPTION:Spooky season has returned\, and so has our Annual Halloween Costume Contest!\nWe’ll be revealing the year’s costume themes and handing out prizes to the most frightfully fantastic looks of the night. As always\, participation in the costume contest is completely optional and will be opt-in. More details to come! \nWhat is BOE TNG?\nBOE TNG is a committee of the Board of Education specifically formed to serve the needs of community members from ages 18 to 35 (currently extending to 37). \nThese events will often be primarily social in focus\, like our monthly munch\, and specifically seek to create a space for TNG aged folks to connect and spend time together. \nThe event location will be shared after an approved RSVP. \nRSVP via the Fetlife link below or by sending a message to @BOE_TNG on Fetlife. \n  \n			\n			\n				\n				\n				\n				\n				\n				\n				\n				\n				\n				BOE-TNG Events\nEvents with this label will be for TNG-aged attendees\, i.e. people ages 18 through 37. You don’t have to be a BOE member to attend\, but membership is encouraged. \nHOW TO BECOME A BOE MEMBER \nBOE TNG Munch Info and Etiquette Primer
URL:https://theboemi.com/event/boe-tng-october-2025/
LOCATION:MI
CATEGORIES:BOE TNG,TNG Munch
ATTACH;FMTTYPE=image/png:https://theboemi.com/wp-content/uploads/2025/10/Screen-Shot-2025-10-09-at-7.40.34-PM.png
END:VEVENT
BEGIN:VEVENT
DTSTART;TZID=America/Detroit:20251014T193000
DTEND;TZID=America/Detroit:20251014T213000
DTSTAMP:20260423T103457
CREATED:20250928T235755Z
LAST-MODIFIED:20250928T235759Z
UID:399-1760470200-1760477400@theboemi.com
SUMMARY:Medical Considerations In Kink with Faline
DESCRIPTION:Class Description\nDo you know what to do if your bottom has low blood sugar? Not sure what the difference is between circulation loss and nerve damage in bondage play? \nThis class aims to open the topic of effective communication regarding medical conditions and how they can affect play\, along with risks and risk mitigation in common types of play including impact and rope. \nThis class is intended for a general audience and questions are encouraged. \nPresenter Bio\nFaline_ \n			\n			\n				\n				\n				\n				\n				\n				\n				\n				\n				\n				Class Attendance\nDoors open at 7:00 p.m. Class begins at 7:30 p.m. and runs until 9:30 p.m. Please be punctual. There will be no admittance after 8:00 p.m. \nCost to attend this class is $5.00 for members (be prepared to show your membership card) and $10.00 for nonmembers. Admission is payable at the door. \nHOW TO BECOME A MEMBER
URL:https://theboemi.com/event/tuesday-class-101425/
LOCATION:The Mothership\, Troy\, MI\, United States
CATEGORIES:Class
ATTACH;FMTTYPE=image/jpeg:https://theboemi.com/wp-content/uploads/2025/09/pexels-karolina-grabowska-4226769.jpg
END:VEVENT
BEGIN:VEVENT
DTSTART;TZID=America/Detroit:20250930T193000
DTEND;TZID=America/Detroit:20250930T213000
DTSTAMP:20260423T103457
CREATED:20250928T234634Z
LAST-MODIFIED:20250928T234857Z
UID:374-1759260600-1759267800@theboemi.com
SUMMARY:Town Hall about House Bill 4938: The NO PORN ANTI-TRANS BILL
DESCRIPTION:Class Description\nCome and discuss and learn what WE can do to stop this bill. \nThis is a FREE event focusing on House Bill 4938. Let your worries and voice be heard. Don’t be afraid! Be proactive! \nPresenter Bio\nJoining us for this event are the following Special Guest Panelist Speakers: \nSwitchyThemlin\nMedical sociologist at the intersections of reproductive justice and health structures \nSheGoesDown\nTrans rights activist and community organizer \nGoddessManda\nActivist with ways to access your voice and be heard in the political process \n			\n			\n				\n				\n				\n				\n				\n				\n				\n				\n				\n				Class Attendance\nThis special event is FREE to attend. \nHOW TO BECOME A MEMBER \nDoors open at 7:00 p.m. Town Hall begins at 7:30 p.m. and runs until 9:30 p.m. Please be punctual. There will be no admittance after 8:00 p.m.
URL:https://theboemi.com/event/tuesday-class-093025/
LOCATION:The Mothership\, Troy\, MI\, United States
CATEGORIES:Class
ATTACH;FMTTYPE=image/jpeg:https://theboemi.com/wp-content/uploads/2025/09/pexels-oriel-frankie-ashcroft-3247631-6054385.jpg
END:VEVENT
BEGIN:VEVENT
DTSTART;TZID=America/Detroit:20250429T193000
DTEND;TZID=America/Detroit:20250429T213000
DTSTAMP:20260423T103457
CREATED:20250303T013110Z
LAST-MODIFIED:20250303T013115Z
UID:304-1745955000-1745962200@theboemi.com
SUMMARY:The Impact of Play: BDSM and Your Lymphatic System with Nixa
DESCRIPTION:Class Description\nThis class explores our second major fluid system\, the lymphatic system\, and the impact that S&M and bondage can have on this system. Information presented in this class is not meant to discourage any sort of play\, nor replace professional medical advice\, rather it’s meant as another tool to use when assessing our risk profiles\, and those of our partners. \nPresenter Bio\nNixa is a Michigan state licensed Massage Therapist and Certified Manual Lymph Drainage Therapist. Nixa has been a part of the southeast Michigan BDSM scene since 2015\, and was active in the New England scene prior to 2015. Nixa is passionate about service and was the founding producer of the Service Oriented Conference\, and is the Director of MAsT: Ann Arbor. As someone who enjoys various forms of edge play\, she’s made it her mission to know as much about the human body as possible to make her own informed decisions\, and believes in sharing that knowledge so others can also make informed decisions of their personal risk profiles because knowledge and consent are sexy! \n			\n			\n				\n				\n				\n				\n				\n				\n				\n				\n				\n				Class Attendance\nCost to attend this class is $5.00 for members (be prepared to show your membership card) and $10.00 for nonmembers. Admission is payable at the door. \nHOW TO BECOME A MEMBER \nDoors open at 7:00 p.m. Class begins at 7:30 p.m. and runs until 9:30 p.m. Please be punctual. There will be no admittance after 8:00 p.m.
URL:https://theboemi.com/event/the-impact-of-play-bdsm-and-your-lymphatic-system-with-nixa/
LOCATION:The Mothership\, Troy\, MI\, United States
CATEGORIES:Class
ATTACH;FMTTYPE=image/jpeg:https://theboemi.com/wp-content/uploads/2025/03/lymphatic.jpg
END:VEVENT
BEGIN:VEVENT
DTSTART;TZID=America/Detroit:20250405T193000
DTEND;TZID=America/Detroit:20250406T010000
DTSTAMP:20260423T103457
CREATED:20250303T012037Z
LAST-MODIFIED:20250303T012041Z
UID:298-1743881400-1743901200@theboemi.com
SUMMARY:April Class & Play Party: Electrical Play with Madame Adria
DESCRIPTION:Class: Electrical Play with Madame Adria—exploring options with insertables and the naughty bits\nIf you attended her intro to electrical play last July\, you know there was a great deal of discussion about the type of electrical play that she enjoys most—which includes insertables and using electrical play to have some fun with the naughty bits (which had to be covered at the intro class). Well! We are pulling the clothes off completely and really having some fun! \nJoin us as we continue to explore the world of electricity and how to safely play. We will look at all the options available using a Tens Unit. \nHow you play is up to you. Sadistic or tantalizing\, what is your end goal? Adding a tens with delightful attachments to your collection gives you the chance to play for pleasure or pain and the whole spectrum in between. We will discuss different attachments\, playing alone or with a partner and how to create wonderful sensations using electricity. \nPresenter Bio\nMadameAdria is a FemDom who began her lifestyle journey in 1981 in St. Louis. She is a Sadist at heart\, but also fully embraces the Owner/slave dynamic and all that comes with it. She has had the pleasure of living\, learning and enjoying kink around the world … always with a hint of sarcasm and a great deal of humor. If you’re not having fun\, you’re doing it wrong! \nBetween 2006–2012\, Madame Adria was an active part of the Detroit kink community where she had the pleasure of teaching classes for various groups in Michigan and Ohio. She currently lives outside of Springfield\, Illinois where she farms and is enjoying the task of turning her city boy into a farm slave. \nNote: You must be on the door roster to be allowed into the party. If your name is not listed on the roster\, you will be turned away at the door. Send a message to @BoardOfEduation on Fetlife to attend. \n			\n			\n				\n				\n				\n				\n				\n				\n				\n				\n				\n				This party is limited to current BOE members and their guests.\nRSVPs are accepted by message only. Once you have successfully RSVP’d\, you will be added to the party roster and sent a confirmation message giving you the details. \nAdmission to the party is $20.00 for members and $25.00 for guests of members. All Attendees to this party must provide a driver’s license or state ID. Members must also show their membership card. You WILL be required to sign a waiver upon entry. There are no exceptions to these requirements. \nHOW TO BECOME A MEMBER
URL:https://theboemi.com/event/play-party-april-2025/
LOCATION:The Mothership\, Troy\, MI\, United States
CATEGORIES:Party
ATTACH;FMTTYPE=image/jpeg:https://theboemi.com/wp-content/uploads/2025/03/pexels-ron-lach-10186697.jpg
END:VEVENT
BEGIN:VEVENT
DTSTART;TZID=America/Detroit:20250316T180000
DTEND;TZID=America/Detroit:20250316T220000
DTSTAMP:20260423T103457
CREATED:20250220T215312Z
LAST-MODIFIED:20250220T220259Z
UID:99-1742148000-1742162400@theboemi.com
SUMMARY:BOE-TNG March Munch: St. Patty's Day & TNG's 3rd Anniversary
DESCRIPTION:ST. PATTY’S DAY CELEBRATION + TNG’s 3rd B-DAY/ANNIVERSARY!\nJoin us for Saint Patrick’s Day (one day early) and in celebration of BOE_TNG’s THIRD Birthday/Anniversary– yeah\, you heard that right– 3 YEARS OF TNG!!!!!! Please wear 💚 GREEN 💚 (or whatever you want\, as always). \n☘️ “May the luck of the Irish lead to happiest heights and the highway you travel be lined with green lights.” ☘️ \nWhat is BOE TNG?\nBOE TNG is a committee of the Board of Education specifically formed to serve the needs of community members from ages 18 to 35 (currently extending to 37). \nThese events will often be primarily social in focus\, like our monthly munch\, and specifically seek to create a space for TNG aged folks to connect and spend time together. \nThe event location will be shared after an approved RSVP. \nRSVP via the Fetlife link below or by sending a message to @BOE_TNG on Fetlife. \n  \n			\n			\n				\n				\n				\n				\n				\n				\n				\n				\n				\n				BOE-TNG Events\nEvents with this label will be for TNG-aged attendees\, i.e. people ages 18 through 37. You don’t have to be a BOE member to attend\, but membership is encouraged. \nHOW TO BECOME A BOE MEMBER \nBOE TNG Munch Info and Etiquette Primer
URL:https://theboemi.com/event/boe-tng-march-2025/
LOCATION:MI
CATEGORIES:BOE TNG,TNG Munch
ATTACH;FMTTYPE=image/png:https://theboemi.com/wp-content/uploads/2025/02/BOE-TNG-March2025.png
END:VEVENT
BEGIN:VEVENT
DTSTART;TZID=America/Detroit:20250304T193000
DTEND;TZID=America/Detroit:20250304T213000
DTSTAMP:20260423T103457
CREATED:20250220T141829Z
LAST-MODIFIED:20250221T011329Z
UID:87-1741116600-1741123800@theboemi.com
SUMMARY:Becoming Leather: What You Need to Know with DevynStone
DESCRIPTION:Class Description\nSo you caught a whiff of Leather and you’re hungry to learn and discover what being Leather is all about. Where does a novice begin? In this foundation-building class\, Devyn Stone guides attendees on what Leather is. While very brief bits of Leather history will be given\, this class’s aim is to provide the attendee with a beginner’s working knowledge of what Leather is\, examples of Leather traditions\, language used in Leather communities\, and what it takes to take on Leather as an identifier. This class is welcome to all attendees\, regardless of experience\, but is tailored to be introductory level. \nPresenter Bio\nMaster (Devyn) Stone is an author\, educator\, and JEDI consultant. He is a Leatherman\, an extrovert\, a Sons of Anarchy fan\, and a foodie. He also enjoys organizing events\, volunteering\, moderating\, speaking\, and emceeing! He has been practicing authority transfer dynamics since 2004. Today he lives in Detroit with his property\, Guan-Xuan. \nDevyn is the author of “DAMN! That’s A Nice Ash! A Comprehensive Guide to Cigar Service & Play” and “Why I Don’t Own Them… Yet… \,” offering a concise guide to negotiating authority in relationships. He is the Founder of Pragmatically Kinking and the Executive Producer for THRIVE. \nMaster Stone has a passion for giving and receiving education. His favorite topics to speak on include productivity\, leadership\, consent\, event coordinating\, authority transfer\, and neurodivergence. He believes in diversity\, not division\, and actualizes that idea by promoting strongly affirming spaces and interactions. \nFind more at https://DevynStone.com \n			\n			\n				\n				\n				\n				\n				\n				\n				\n				\n				\n				Class Attendance\nCost to attend this class is $5.00 for members (be prepared to show your membership card) and $10.00 for nonmembers. Admission is payable at the door. \nHOW TO BECOME A MEMBER \nDoors open at 7:00 p.m. Class begins at 7:30 p.m. and runs until 9:30 p.m. Please be punctual. There will be no admittance after 8:00 p.m.
URL:https://theboemi.com/event/tuesday-class-030425/
LOCATION:The Mothership\, Troy\, MI\, United States
CATEGORIES:Class
ATTACH;FMTTYPE=image/jpeg:https://theboemi.com/wp-content/uploads/2025/02/pexels-serj-3208298.jpg
END:VEVENT
BEGIN:VEVENT
DTSTART;TZID=America/Detroit:20250218T193000
DTEND;TZID=America/Detroit:20250218T213000
DTSTAMP:20260423T103457
CREATED:20250220T142343Z
LAST-MODIFIED:20250220T142348Z
UID:93-1739907000-1739914200@theboemi.com
SUMMARY:Town Hall: Meet the Candidates!
DESCRIPTION:Meet the Candidates\nThis forum is an opportunity for members to meet our candidates for election/re-election and ask them questions about their vision and goals for their Director term\, if elected/re-elected. \nAbout the BOE\nThe Board of Education is a community-driven\, democratic organization. The Board of Directors is voted in by the members to represent you in the day to day operations of the organization\, including parties\, special events\, classes\, and expenditures. Just as every committee chair must report to the Board monthly\, the Board must report to you\, our members. \n			\n			\n				\n				\n				\n				\n				\n				\n				\n				\n				\n				Class Attendance\nCost to attend this class is $5.00 for members (be prepared to show your membership card) and $10.00 for nonmembers. Admission is payable at the door. \nHOW TO BECOME A MEMBER \nDoors open at 7:00 p.m. Class begins at 7:30 p.m. and runs until 9:30 p.m. Please be punctual. There will be no admittance after 8:00 p.m.
URL:https://theboemi.com/event/tuesday-class-022125/
LOCATION:The Mothership\, Troy\, MI\, United States
CATEGORIES:Class
ATTACH;FMTTYPE=image/jpeg:https://theboemi.com/wp-content/uploads/2025/02/pexels-element5-1550337.jpg
END:VEVENT
BEGIN:VEVENT
DTSTART;TZID=America/Detroit:20250216T180000
DTEND;TZID=America/Detroit:20250216T220000
DTSTAMP:20260423T103457
CREATED:20250220T220922Z
LAST-MODIFIED:20250220T220927Z
UID:208-1739728800-1739743200@theboemi.com
SUMMARY:BOE-TNG February Munch: Valentine's CRAFT Munch
DESCRIPTION:CRAFT MUNCH!\nThis month\, we’re adding cozy craft & creativity time to our regular munch. 🙂 We will be bringing some crafting materials and supplies for attendees to use\, but please consider to BYO and/or consider bringing fun things to share with others. We’ll post what we plan to provide as the event gets closer. \nPlease consider bringing things like: coloring books\, coloring supplies\, diamond/gem painting kits\, stickers\, “paint by sticker” books\, paper\, drawing utensils\, embroidery\, crochet\, temporary tattoos\, chain mail\, etc. Please avoid bringing anything that could be really messy\, such as paint or glitter\, out of respect for the venue. Shoot us a message on Fetlife if you’re unsure. \nWhat is BOE TNG?\nBOE TNG is a committee of the Board of Education specifically formed to serve the needs of community members from ages 18 to 35 (currently extending to 37). \nThese events will often be primarily social in focus\, like our monthly munch\, and specifically seek to create a space for TNG aged folks to connect and spend time together. \nThe event location will be shared after an approved RSVP. \nRSVP via the Fetlife link below or by sending a message to @BOE_TNG on Fetlife. \n			\n			\n				\n				\n				\n				\n				\n				\n				\n				\n				\n				BOE-TNG Events\nEvents with this label will be for TNG-aged attendees\, i.e. people ages 18 through 37. You don’t have to be a BOE member to attend\, but membership is encouraged. \nHOW TO BECOME A BOE MEMBER \nBOE TNG Munch Info and Etiquette Primer
URL:https://theboemi.com/event/boe-tng-february-2025/
LOCATION:MI
CATEGORIES:BOE TNG,TNG Munch
ATTACH;FMTTYPE=image/png:https://theboemi.com/wp-content/uploads/2025/02/BOE-TNG-February2025.png
END:VEVENT
BEGIN:VEVENT
DTSTART;TZID=America/Detroit:20250204T193000
DTEND;TZID=America/Detroit:20250204T213000
DTSTAMP:20260423T103457
CREATED:20250220T140723Z
LAST-MODIFIED:20250220T140728Z
UID:81-1738697400-1738704600@theboemi.com
SUMMARY:Brat Tamer Harness with @AlyssaJade
DESCRIPTION:Class Description\nThe brat tamer harness is a chest/ hip harness that AlyssaJade developed for a quick and easy dirty tie for brats that are\, well … brats! \nIt’s a simple tie that most can do with little to no knowledge of rope! This is non-suspendable and typically can be done with only 1 length of rope. Depending on how elaborate you want it to look\, a second rope can be used. \nPresenter Bio\nAlyssaJade: “I have been presenting rope for roughly 15 years throughout the United States and Canada. I have also taught in Mexico and Jamaica. I started my rope journey from the bottom and worked my way up. Currently\, I practice as a rigger/rope top and do some self suspension. I am a professional photographer with a fully equipped studio in downtown Pontiac\, MI. I also teach photography\, lighting\, camera use\, posing\, etc. I am currently running a rope group that meets every Tuesday night at my studio. We also have a monthly rope lab/open practice day once a month\, along with a few specialized events. Starting in February\, there will also be a monthly play party.” \n			\n			\n				\n				\n				\n				\n				\n				\n				\n				\n				\n				Class Attendance\nCost to attend this class is $5.00 for members (be prepared to show your membership card) and $10.00 for nonmembers. Admission is payable at the door. \nHOW TO BECOME A MEMBER \nDoors open at 7:00 p.m. Class begins at 7:30 p.m. and runs until 9:30 p.m. Please be punctual. There will be no admittance after 8:00 p.m.
URL:https://theboemi.com/event/tuesday-class-020425/
LOCATION:The Mothership\, Troy\, MI\, United States
CATEGORIES:Class
ATTACH;FMTTYPE=image/jpeg:https://theboemi.com/wp-content/uploads/2025/02/pexels-pixabay-392791.jpg
END:VEVENT
BEGIN:VEVENT
DTSTART;TZID=America/Detroit:20250201T193000
DTEND;TZID=America/Detroit:20250202T010000
DTSTAMP:20260423T103457
CREATED:20250221T010358Z
LAST-MODIFIED:20250221T022650Z
UID:228-1738438200-1738458000@theboemi.com
SUMMARY:February Class & Play Party: "Tying Up the Johnsons"
DESCRIPTION:Class: “Tying up the Johnsons” 🌭 🍌 🍆\nLike the idea of binding balls\, but concerned you’ll cock it up? Fear not\, my kinky companions\, in this hands-on workshop\, participants will learn several techniques to not only bind the cock and balls\, but other ways to play with the family jewels as well. Basic safety and risk awareness concerning cock and ball play will be discussed\, but a general understanding of rope safety is assumed. Rope is available for purchase ($10 kit includes 1x10ft & 2x5ft) or you may bring your own 1x10ft and 2x5ft of 4mm diameter. No lending rope will be provided. \nPresenter Bio\nTraeonna is a passionate and experienced educator with over 25 years of experience who provides lectures and workshops on a variety of topics\, including kink skills (rope bondage\, fireplay\, cigar service/play\, etc.)\, kimono and lolita fashion\, communication tools\, conflict transformation\, hula hoop fitness/dance\, moving meditation\, energy work\, and connective practices in the leather\, kink\, poly\, geek\, occult\, flow arts\, and other adventurous communities. She has been involved with the leather and kink communities for over 25 years\, holds the 2017 and 2018 title for Miss Ohio Leather\, is a member of the 2018 class for International Person of Leather\, and is a member of the Titans of the Midwest. Traeonna is a kimono-wearing HoH ND queer disabled endorphin enthusiast who can be found hitting people with dinosaurs\, amusing her/aer Bear with her/aer antics\, and is fueled by dark chocolate\, coffee\, and Sir Winston snuggles. As a mononymous person\, Traeonna can be found on Fetlife\, Facebook\, Instagram\, or by typing .com after her name! \nNote: You must be on the door roster to be allowed into the party. If your name is not listed on the roster\, you will be turned away at the door. Send a message to @BoardOfEduation on Fetlife to attend.\n			\n			\n				\n				\n				\n				\n				\n				\n				\n				\n				\n				This party is limited to current BOE members and their guests.\nRSVPs are accepted by message only. Once you have successfully RSVP’d\, you will be added to the party roster and sent a confirmation message giving you the details. \nAdmission to the party is $20.00 for members and $25.00 for guests of members. All Attendees to this party must provide a driver’s license or state ID. Members must also show their membership card. You WILL be required to sign a waiver upon entry. There are no exceptions to these requirements. \nHOW TO BECOME A MEMBER
URL:https://theboemi.com/event/play-party-february-2025/
LOCATION:The Mothership\, Troy\, MI\, United States
CATEGORIES:Party
ATTACH;FMTTYPE=image/png:https://theboemi.com/wp-content/uploads/2025/02/BOE-Party-February2025.png
END:VEVENT
BEGIN:VEVENT
DTSTART;TZID=America/Detroit:20250121T193000
DTEND;TZID=America/Detroit:20250121T213000
DTSTAMP:20260423T103457
CREATED:20250220T135619Z
LAST-MODIFIED:20250220T135624Z
UID:75-1737487800-1737495000@theboemi.com
SUMMARY:Trauma-informed BDSM with Jennifer Schwartz
DESCRIPTION:Class Description\nClinical social worker and sexual health educator Jennifer Schwartz (SchadenFraulein)\, She/They\, will lead this introductory workshop including brief lecture\, interactive learning\, somatic exercises\, and risk-reduction planning focused on helping individuals with a trauma history to navigate BDSM in a risk-reduced way\, as well as providing general insight on how to support individuals experiencing trauma during play. Additional time for audience discussion and a Q& A will be alotted. \nBonus Offering\nLansing Area AIDS Network testing staff will also be on-site to provide free HIV testing and safer-sex tools\, resources\, and other goodies. \n			\n			\n				\n				\n				\n				\n				\n				\n				\n				\n				\n				Class Attendance\nCost to attend this class is $5.00 for members (be prepared to show your membership card) and $10.00 for nonmembers. Admission is payable at the door. \nHOW TO BECOME A MEMBER \nDoors open at 7:00 p.m. Class begins at 7:30 p.m. and runs until 9:30 p.m. Please be punctual. There will be no admittance after 8:00 p.m.
URL:https://theboemi.com/event/tuesday-class-012125/
LOCATION:The Mothership\, Troy\, MI\, United States
CATEGORIES:Class
ATTACH;FMTTYPE=image/jpeg:https://theboemi.com/wp-content/uploads/2025/02/trauma-kink-072125.jpg
END:VEVENT
BEGIN:VEVENT
DTSTART;TZID=America/Detroit:20250119T180000
DTEND;TZID=America/Detroit:20250119T220000
DTSTAMP:20260423T103457
CREATED:20250220T221708Z
LAST-MODIFIED:20250220T221713Z
UID:221-1737309600-1737324000@theboemi.com
SUMMARY:BOE-TNG January Munch
DESCRIPTION:BOE TNG Monthly Munches\n📌 Welcome to TNG! Come hang out with other kinky folks and enjoy a break from everyday vanilla life. This event is not intended to be a class or formal discussion\, simply a space to meet and socialize with other people with similar interests. \nWhat is BOE TNG?\nBOE TNG is a committee of the Board of Education specifically formed to serve the needs of community members from ages 18 to 35 (currently extending to 37). \nThese events will often be primarily social in focus\, like our monthly munch\, and specifically seek to create a space for TNG aged folks to connect and spend time together. \nThe event location will be shared after an approved RSVP. \nRSVP via the Fetlife link below or by sending a message to @BOE_TNG on Fetlife. \n			\n			\n				\n				\n				\n				\n				\n				\n				\n				\n				\n				BOE-TNG Events\nEvents with this label will be for TNG-aged attendees\, i.e. people ages 18 through 37. You don’t have to be a BOE member to attend\, but membership is encouraged. \nHOW TO BECOME A BOE MEMBER \nBOE TNG Munch Info and Etiquette Primer
URL:https://theboemi.com/event/boe-tng-january-2025/
LOCATION:MI
CATEGORIES:BOE TNG,TNG Munch
ATTACH;FMTTYPE=image/png:https://theboemi.com/wp-content/uploads/2025/02/BOE-TNG-January2025.png
END:VEVENT
BEGIN:VEVENT
DTSTART;TZID=America/Detroit:20250107T193000
DTEND;TZID=America/Detroit:20250107T213000
DTSTAMP:20260423T103457
CREATED:20250220T135044Z
LAST-MODIFIED:20250220T135050Z
UID:68-1736278200-1736285400@theboemi.com
SUMMARY:Fire! Fire! Fire! with TheMtnLioness
DESCRIPTION:Class Description\nIf you are a pyro with a pinch of sensualist or sadist thrown in\, then this class is for you. Fire play can range from sensual to excruciating depending on your goals and skills. We will talk about how to accomplish both with fire. This class is for both fire Tops and fire bottoms with an emphasis on safety. \nPresenter Bio\nPam (aka TheMtnLioness) has been involved with the Board of Education since its beginning. She has been an avid educator and student during her time in the community and has a significant amount of experience with fire play. She can often be found topping fire play for bottoms buffets & Exploratoriums\, introducing new people to the community\, and making people scream in agony or ecstasy. She is excited to help you on your way to self discovery and fun. \n			\n			\n				\n				\n				\n				\n				\n				\n				\n				\n				\n				Class Attendance\nCost to attend this class is $5.00 for members (be prepared to show your membership card) and $10.00 for nonmembers. Admission is payable at the door. \nHOW TO BECOME A MEMBER \nDoors open at 7:00 p.m. Class begins at 7:30 p.m. and runs until 9:30 p.m. Please be punctual. There will be no admittance after 8:00 p.m.
URL:https://theboemi.com/event/fire-fire-fire-with-themtnlioness/
LOCATION:The Mothership\, Troy\, MI\, United States
CATEGORIES:Class
ATTACH;FMTTYPE=image/jpeg:https://theboemi.com/wp-content/uploads/2025/02/fire-010725.jpg
END:VEVENT
END:VCALENDAR