BEGIN:VCALENDAR
VERSION:2.0
PRODID:-//Board of Education - ECPv6.15.20//NONSGML v1.0//EN
CALSCALE:GREGORIAN
METHOD:PUBLISH
X-WR-CALNAME:Board of Education
X-ORIGINAL-URL:https://theboemi.com
X-WR-CALDESC:Events for Board of Education
REFRESH-INTERVAL;VALUE=DURATION:PT1H
X-Robots-Tag:noindex
X-PUBLISHED-TTL:PT1H
BEGIN:VTIMEZONE
TZID:America/Detroit
BEGIN:DAYLIGHT
TZOFFSETFROM:-0500
TZOFFSETTO:-0400
TZNAME:EDT
DTSTART:20240310T070000
END:DAYLIGHT
BEGIN:STANDARD
TZOFFSETFROM:-0400
TZOFFSETTO:-0500
TZNAME:EST
DTSTART:20241103T060000
END:STANDARD
BEGIN:DAYLIGHT
TZOFFSETFROM:-0500
TZOFFSETTO:-0400
TZNAME:EDT
DTSTART:20250309T070000
END:DAYLIGHT
BEGIN:STANDARD
TZOFFSETFROM:-0400
TZOFFSETTO:-0500
TZNAME:EST
DTSTART:20251102T060000
END:STANDARD
BEGIN:DAYLIGHT
TZOFFSETFROM:-0500
TZOFFSETTO:-0400
TZNAME:EDT
DTSTART:20260308T070000
END:DAYLIGHT
BEGIN:STANDARD
TZOFFSETFROM:-0400
TZOFFSETTO:-0500
TZNAME:EST
DTSTART:20261101T060000
END:STANDARD
END:VTIMEZONE
BEGIN:VEVENT
DTSTART;TZID=America/Detroit:20251026T180000
DTEND;TZID=America/Detroit:20251026T220000
DTSTAMP:20260423T214254
CREATED:20251010T001505Z
LAST-MODIFIED:20251109T224816Z
UID:410-1761501600-1761516000@theboemi.com
SUMMARY:BOE-TNG October Munch - Halloween Costume Contest! (for 18-37+guests)
DESCRIPTION:Spooky season has returned\, and so has our Annual Halloween Costume Contest!\nWe’ll be revealing the year’s costume themes and handing out prizes to the most frightfully fantastic looks of the night. As always\, participation in the costume contest is completely optional and will be opt-in. More details to come! \nWhat is BOE TNG?\nBOE TNG is a committee of the Board of Education specifically formed to serve the needs of community members from ages 18 to 35 (currently extending to 37). \nThese events will often be primarily social in focus\, like our monthly munch\, and specifically seek to create a space for TNG aged folks to connect and spend time together. \nThe event location will be shared after an approved RSVP. \nRSVP via the Fetlife link below or by sending a message to @BOE_TNG on Fetlife. \n  \n			\n			\n				\n				\n				\n				\n				\n				\n				\n				\n				\n				BOE-TNG Events\nEvents with this label will be for TNG-aged attendees\, i.e. people ages 18 through 37. You don’t have to be a BOE member to attend\, but membership is encouraged. \nHOW TO BECOME A BOE MEMBER \nBOE TNG Munch Info and Etiquette Primer
URL:https://theboemi.com/event/boe-tng-october-2025/
CATEGORIES:BOE TNG,TNG Munch
ATTACH;FMTTYPE=image/png:https://theboemi.com/wp-content/uploads/2025/10/Screen-Shot-2025-10-09-at-7.40.34-PM.png
END:VEVENT
END:VCALENDAR