BEGIN:VCALENDAR
VERSION:2.0
PRODID:-//Board of Education - ECPv6.15.20//NONSGML v1.0//EN
CALSCALE:GREGORIAN
METHOD:PUBLISH
X-ORIGINAL-URL:https://theboemi.com
X-WR-CALDESC:Events for Board of Education
REFRESH-INTERVAL;VALUE=DURATION:PT1H
X-Robots-Tag:noindex
X-PUBLISHED-TTL:PT1H
BEGIN:VTIMEZONE
TZID:America/Detroit
BEGIN:DAYLIGHT
TZOFFSETFROM:-0500
TZOFFSETTO:-0400
TZNAME:EDT
DTSTART:20240310T070000
END:DAYLIGHT
BEGIN:STANDARD
TZOFFSETFROM:-0400
TZOFFSETTO:-0500
TZNAME:EST
DTSTART:20241103T060000
END:STANDARD
BEGIN:DAYLIGHT
TZOFFSETFROM:-0500
TZOFFSETTO:-0400
TZNAME:EDT
DTSTART:20250309T070000
END:DAYLIGHT
BEGIN:STANDARD
TZOFFSETFROM:-0400
TZOFFSETTO:-0500
TZNAME:EST
DTSTART:20251102T060000
END:STANDARD
BEGIN:DAYLIGHT
TZOFFSETFROM:-0500
TZOFFSETTO:-0400
TZNAME:EDT
DTSTART:20260308T070000
END:DAYLIGHT
BEGIN:STANDARD
TZOFFSETFROM:-0400
TZOFFSETTO:-0500
TZNAME:EST
DTSTART:20261101T060000
END:STANDARD
END:VTIMEZONE
BEGIN:VEVENT
DTSTART;TZID=America/Detroit:20251206T193000
DTEND;TZID=America/Detroit:20251207T010000
DTSTAMP:20260423T182749
CREATED:20251029T002940Z
LAST-MODIFIED:20251109T225954Z
UID:421-1765049400-1765069200@theboemi.com
SUMMARY:December Class & Play Party: "Scrotal Inflation"
DESCRIPTION:BOE June Class and Play Party: Fisting with the Master Puppeteers and their meat puppets!\n				\n				\n			\n				\n				\n				\n				\n				December 6 @7:30 pm – December 7 @ 1:00 am $20-$25 \n			\n			\n				\n				\n				\n				\n			\n				\n				\n				\n				\n				\n				\n				\n				\n				\n				\n				CLASS: Scrotal Inflation\nThis event is designed to give you an understanding of scrotal infusion(inflation) from safety to step by step procedures on the process of infusion of the scrotal sac.Also to include many tips and tricks for a successful time.Will be covering: \n\nsafety\nwhat you can expect throughout the process\ndo’s and don’ts\naftercare\nwhat to expect hours to days later\n\n \nPresenter Bio\nRubberdrew has been exploring kink activities for several decades and he enjoys many aspects of kink\, but he has an affinity for needle play and temporary body modification. He has enjoyed scrotal inflation for many years and has done the procedure about a dozen times on himself \n \nNote: You must be on the door roster to be allowed into the party. If your name is not listed on the roster\, you will be turned away at the door. Send a message to @BoardOfEduation on Fetlife to attend.\n			\n			\n				\n				\n				\n				\n				\n				\n				\n				\n				\n				This party is limited to current BOE members and their guests.\nRSVPs are accepted by message only. Once you have successfully RSVP’d\, you will be added to the party roster and sent a confirmation message giving you the details. \nAdmission to the party is $20.00 for members and $25.00 for guests of members. All Attendees to this party must provide a driver’s license or state ID. Members must also show their membership card. You WILL be required to sign a waiver upon entry. There are no exceptions to these requirements. \nHOW TO BECOME A MEMBER
URL:https://theboemi.com/event/december-class-play-party-scrotal-inflation/
LOCATION:The Mothership\, Troy\, MI\, United States
CATEGORIES:Party
END:VEVENT
END:VCALENDAR