BEGIN:VCALENDAR
VERSION:2.0
PRODID:-//Board of Education - ECPv6.15.20//NONSGML v1.0//EN
CALSCALE:GREGORIAN
METHOD:PUBLISH
X-WR-CALNAME:Board of Education
X-ORIGINAL-URL:https://theboemi.com
X-WR-CALDESC:Events for Board of Education
REFRESH-INTERVAL;VALUE=DURATION:PT1H
X-Robots-Tag:noindex
X-PUBLISHED-TTL:PT1H
BEGIN:VTIMEZONE
TZID:America/Detroit
BEGIN:DAYLIGHT
TZOFFSETFROM:-0500
TZOFFSETTO:-0400
TZNAME:EDT
DTSTART:20250309T070000
END:DAYLIGHT
BEGIN:STANDARD
TZOFFSETFROM:-0400
TZOFFSETTO:-0500
TZNAME:EST
DTSTART:20251102T060000
END:STANDARD
BEGIN:DAYLIGHT
TZOFFSETFROM:-0500
TZOFFSETTO:-0400
TZNAME:EDT
DTSTART:20260308T070000
END:DAYLIGHT
BEGIN:STANDARD
TZOFFSETFROM:-0400
TZOFFSETTO:-0500
TZNAME:EST
DTSTART:20261101T060000
END:STANDARD
BEGIN:DAYLIGHT
TZOFFSETFROM:-0500
TZOFFSETTO:-0400
TZNAME:EDT
DTSTART:20270314T070000
END:DAYLIGHT
BEGIN:STANDARD
TZOFFSETFROM:-0400
TZOFFSETTO:-0500
TZNAME:EST
DTSTART:20271107T060000
END:STANDARD
END:VTIMEZONE
BEGIN:VEVENT
DTSTART;TZID=America/Detroit:20260203T193000
DTEND;TZID=America/Detroit:20260203T213000
DTSTAMP:20260423T114934
CREATED:20251115T180318Z
LAST-MODIFIED:20251210T133444Z
UID:464-1770147000-1770154200@theboemi.com
SUMMARY:RESCHEDULED!! Cupping 101 - From a Therapeutic Professional with CuppingDT
DESCRIPTION:Class Description\nWe will cover safety issues with cupping including fire and vacuum cupping\, therapeutic effects of cupping\, a few ways to incorporate cupping to a kink session. Demonstrating safe fire cupping and vacuum cupping. Answer any questions provided by the audience.  \nThis presentation is expected to last 1-2hours. \nPresenter Bio\nCuppingDT is a 15 year state certified and nationally recognized professional massage therapist. CuppingDT has worked in various spas in the metro Detroit area. Including teaching massage for 4.5 years. Currently CuppingDT has his own practice in Farmington focusing on pain management. \n			\n			\n				\n				\n				\n				\n				\n				\n				\n				\n				\n				Class Attendance\nDoors open at 7:00 p.m. Class begins at 7:30 p.m. and runs until 9:30 p.m. Please be punctual. There will be no admittance after 8:00 p.m. \nCost to attend this class is $5.00 for members (be prepared to show your membership card) and $10.00 for nonmembers. Admission is payable at the door. \nHOW TO BECOME A MEMBER
URL:https://theboemi.com/event/cupping-101-from-a-therapeutic-professional-with-cuppingdt/
LOCATION:The Mothership\, Troy\, MI\, United States
CATEGORIES:Class
END:VEVENT
BEGIN:VEVENT
DTSTART;TZID=America/Detroit:20260228T193000
DTEND;TZID=America/Detroit:20260301T010000
DTSTAMP:20260423T114934
CREATED:20260121T001526Z
LAST-MODIFIED:20260121T001529Z
UID:534-1772307000-1772326800@theboemi.com
SUMMARY:February Class & Play Party - One Rope Torture: When Less Becomes Unavoidable
DESCRIPTION:Class: One Rope Torture: When Less Becomes Unavoidable\nWhat happens when one rope is enough? This class examines torture through constraint\, fatigue\, and intentional denial using a single continuous rope. By limiting materials\, we sharpen awareness of the body\, breath\, and the slow accumulation of discomfort over time. \nParticipants will explore how posture\, stillness\, and micro-adjustments can transform simple structures into intense experiences. The focus is not on elaborate ties\, but on how presence\, pacing\, and choice shape sensation. This class is rooted in consent-forward practice and emphasizes emotional and physical safety throughout.Level: Upper-beginner to intermediatePrerequisites: Basic rope handling\, tension management\, and body awarenessContent Note: Consensual pain and psychological intensity \nPresenter Bio\nPersuasivePeach is a rope switch\, edge player\, and collared submissive (MDD’s the lucky one) based in Northwest Ohio. She’s taught or supported classes on breath play\, cold branding\, caning\, sensory deprivation\, cigar play\, and- of course- rope.She leads the monthly Toledo Area Tied Up rope class\, where she helps participants build skill\, confidence\, and connection through hands-on learning and thoughtful challenge. Peach enjoys exploring the edges of comfort and control\, and she’s passionate about helping others find their own rhythm in rope\, whether they’re flying or staying grounded. \nAnyette (she/they) is a submissive rope bottom from the Detroit area with an affinity for play that evokes discomfort and distress\, and she believes that the best way to explore those thoroughly and safely is through transparent and efficient communication.Anyette looks forward to covering concepts like active bottoming in rope\, embracing intentional discomfort\, and how to establish efficient communication with your rope top so you both feel safe and connected (even when things get a little uncomfy – intentionally\, of course) \n			\n			\n				\n				\n				\n				\n				\n				\n				\n				\n				\n				This party is limited to current BOE members and their guests.\nRSVPs are accepted by message only. Once you have successfully RSVP’d\, you will be added to the party roster and sent a confirmation message giving you the details. \nAdmission to the party is $20.00 for members and $25.00 for guests of members. All Attendees to this party must provide a driver’s license or state ID. Members must also show their membership card. You WILL be required to sign a waiver upon entry. There are no exceptions to these requirements. \nHOW TO BECOME A MEMBER
URL:https://theboemi.com/event/february-class-play-party-one-rope-torture-when-less-becomes-unavoidable/
LOCATION:The Mothership\, Troy\, MI\, United States
CATEGORIES:Class,Party
END:VEVENT
END:VCALENDAR