BEGIN:VCALENDAR
VERSION:2.0
PRODID:-//Board of Education - ECPv6.15.20//NONSGML v1.0//EN
CALSCALE:GREGORIAN
METHOD:PUBLISH
X-WR-CALNAME:Board of Education
X-ORIGINAL-URL:https://theboemi.com
X-WR-CALDESC:Events for Board of Education
REFRESH-INTERVAL;VALUE=DURATION:PT1H
X-Robots-Tag:noindex
X-PUBLISHED-TTL:PT1H
BEGIN:VTIMEZONE
TZID:America/Detroit
BEGIN:DAYLIGHT
TZOFFSETFROM:-0500
TZOFFSETTO:-0400
TZNAME:EDT
DTSTART:20240310T070000
END:DAYLIGHT
BEGIN:STANDARD
TZOFFSETFROM:-0400
TZOFFSETTO:-0500
TZNAME:EST
DTSTART:20241103T060000
END:STANDARD
BEGIN:DAYLIGHT
TZOFFSETFROM:-0500
TZOFFSETTO:-0400
TZNAME:EDT
DTSTART:20250309T070000
END:DAYLIGHT
BEGIN:STANDARD
TZOFFSETFROM:-0400
TZOFFSETTO:-0500
TZNAME:EST
DTSTART:20251102T060000
END:STANDARD
BEGIN:DAYLIGHT
TZOFFSETFROM:-0500
TZOFFSETTO:-0400
TZNAME:EDT
DTSTART:20260308T070000
END:DAYLIGHT
BEGIN:STANDARD
TZOFFSETFROM:-0400
TZOFFSETTO:-0500
TZNAME:EST
DTSTART:20261101T060000
END:STANDARD
END:VTIMEZONE
BEGIN:VEVENT
DTSTART;TZID=America/Detroit:20251014T193000
DTEND;TZID=America/Detroit:20251014T213000
DTSTAMP:20260423T174734
CREATED:20250928T235755Z
LAST-MODIFIED:20250928T235759Z
UID:399-1760470200-1760477400@theboemi.com
SUMMARY:Medical Considerations In Kink with Faline
DESCRIPTION:Class Description\nDo you know what to do if your bottom has low blood sugar? Not sure what the difference is between circulation loss and nerve damage in bondage play? \nThis class aims to open the topic of effective communication regarding medical conditions and how they can affect play\, along with risks and risk mitigation in common types of play including impact and rope. \nThis class is intended for a general audience and questions are encouraged. \nPresenter Bio\nFaline_ \n			\n			\n				\n				\n				\n				\n				\n				\n				\n				\n				\n				Class Attendance\nDoors open at 7:00 p.m. Class begins at 7:30 p.m. and runs until 9:30 p.m. Please be punctual. There will be no admittance after 8:00 p.m. \nCost to attend this class is $5.00 for members (be prepared to show your membership card) and $10.00 for nonmembers. Admission is payable at the door. \nHOW TO BECOME A MEMBER
URL:https://theboemi.com/event/tuesday-class-101425/
LOCATION:The Mothership\, Troy\, MI\, United States
CATEGORIES:Class
ATTACH;FMTTYPE=image/jpeg:https://theboemi.com/wp-content/uploads/2025/09/pexels-karolina-grabowska-4226769.jpg
END:VEVENT
END:VCALENDAR