BEGIN:VCALENDAR
VERSION:2.0
PRODID:-//Board of Education - ECPv6.15.20//NONSGML v1.0//EN
CALSCALE:GREGORIAN
METHOD:PUBLISH
X-ORIGINAL-URL:https://theboemi.com
X-WR-CALDESC:Events for Board of Education
REFRESH-INTERVAL;VALUE=DURATION:PT1H
X-Robots-Tag:noindex
X-PUBLISHED-TTL:PT1H
BEGIN:VTIMEZONE
TZID:America/Detroit
BEGIN:DAYLIGHT
TZOFFSETFROM:-0500
TZOFFSETTO:-0400
TZNAME:EDT
DTSTART:20240310T070000
END:DAYLIGHT
BEGIN:STANDARD
TZOFFSETFROM:-0400
TZOFFSETTO:-0500
TZNAME:EST
DTSTART:20241103T060000
END:STANDARD
BEGIN:DAYLIGHT
TZOFFSETFROM:-0500
TZOFFSETTO:-0400
TZNAME:EDT
DTSTART:20250309T070000
END:DAYLIGHT
BEGIN:STANDARD
TZOFFSETFROM:-0400
TZOFFSETTO:-0500
TZNAME:EST
DTSTART:20251102T060000
END:STANDARD
BEGIN:DAYLIGHT
TZOFFSETFROM:-0500
TZOFFSETTO:-0400
TZNAME:EDT
DTSTART:20260308T070000
END:DAYLIGHT
BEGIN:STANDARD
TZOFFSETFROM:-0400
TZOFFSETTO:-0500
TZNAME:EST
DTSTART:20261101T060000
END:STANDARD
END:VTIMEZONE
BEGIN:VEVENT
DTSTART;TZID=America/Detroit:20250429T193000
DTEND;TZID=America/Detroit:20250429T213000
DTSTAMP:20260424T025339
CREATED:20250303T013110Z
LAST-MODIFIED:20250303T013115Z
UID:304-1745955000-1745962200@theboemi.com
SUMMARY:The Impact of Play: BDSM and Your Lymphatic System with Nixa
DESCRIPTION:Class Description\nThis class explores our second major fluid system\, the lymphatic system\, and the impact that S&M and bondage can have on this system. Information presented in this class is not meant to discourage any sort of play\, nor replace professional medical advice\, rather it’s meant as another tool to use when assessing our risk profiles\, and those of our partners. \nPresenter Bio\nNixa is a Michigan state licensed Massage Therapist and Certified Manual Lymph Drainage Therapist. Nixa has been a part of the southeast Michigan BDSM scene since 2015\, and was active in the New England scene prior to 2015. Nixa is passionate about service and was the founding producer of the Service Oriented Conference\, and is the Director of MAsT: Ann Arbor. As someone who enjoys various forms of edge play\, she’s made it her mission to know as much about the human body as possible to make her own informed decisions\, and believes in sharing that knowledge so others can also make informed decisions of their personal risk profiles because knowledge and consent are sexy! \n			\n			\n				\n				\n				\n				\n				\n				\n				\n				\n				\n				Class Attendance\nCost to attend this class is $5.00 for members (be prepared to show your membership card) and $10.00 for nonmembers. Admission is payable at the door. \nHOW TO BECOME A MEMBER \nDoors open at 7:00 p.m. Class begins at 7:30 p.m. and runs until 9:30 p.m. Please be punctual. There will be no admittance after 8:00 p.m.
URL:https://theboemi.com/event/the-impact-of-play-bdsm-and-your-lymphatic-system-with-nixa/
LOCATION:The Mothership\, Troy\, MI\, United States
CATEGORIES:Class
ATTACH;FMTTYPE=image/jpeg:https://theboemi.com/wp-content/uploads/2025/03/lymphatic.jpg
END:VEVENT
END:VCALENDAR